BEGIN:VCALENDAR
VERSION:2.0
PRODID:eventora.com
BEGIN:VEVENT
UID:371ab923-e3b4-49c4-a762-cecf487b3a2f
DTSTAMP:20260420T122158Z
STATUS:CONFIRMED
DTSTART;TZID=GTB Standard Time:20160516T080000Z
DTEND;TZID=GTB Standard Time:20160516T120000Z
SUMMARY:Σχεδίαση πλακετών PCB - EESTEC Academy
LOCATION:University of Patras -  - 265 04 Panepistimioupoli Patron - Patra - G
DESCRIPTION: 
BEGIN:VALARM
DESCRIPTION:Σχεδίαση πλακετών PCB - EESTEC Academy
TRIGGER:-PT15M
ACTION:DISPLAY
END:VALARM
TRANSP:OPAQUE
END:VEVENT
END:VCALENDAR
