BEGIN:VCALENDAR
VERSION:2.0
PRODID:eventora.com
BEGIN:VEVENT
UID:b0cbc85b-ff33-4fde-88d0-f685bb79f8c1
DTSTAMP:20260425T174627Z
STATUS:CONFIRMED
DTSTART;TZID=GTB Standard Time:20261205T090000Z
DTEND;TZID=GTB Standard Time:20261206T180000Z
SUMMARY:the Architect Show 2026
LOCATION:ATHENS METROPOLITAN EXPO A.E. -  - 190 19 Spata - Anatoliki Attiki - 
DESCRIPTION: 
BEGIN:VALARM
DESCRIPTION:the Architect Show 2026
TRIGGER:-PT15M
ACTION:DISPLAY
END:VALARM
TRANSP:OPAQUE
END:VEVENT
END:VCALENDAR
