BEGIN:VCALENDAR
VERSION:2.0
PRODID:eventora.com
BEGIN:VEVENT
UID:45b9ac68-bf53-4b0d-a956-f65e7943e817
DTSTAMP:20260422T024822Z
STATUS:CONFIRMED
DTSTART;TZID=GTB Standard Time:20160208T120000Z
DTEND;TZID=GTB Standard Time:20160208T180000Z
SUMMARY:TEDxLausanne 2016
LOCATION:Amphimax - UNIL -   - 1015 Lausanne - Vaud - Switzerland
DESCRIPTION: 
BEGIN:VALARM
DESCRIPTION:TEDxLausanne 2016
TRIGGER:-PT15M
ACTION:DISPLAY
END:VALARM
TRANSP:OPAQUE
END:VEVENT
END:VCALENDAR
