BEGIN:VCALENDAR
VERSION:2.0
PRODID:eventora.com
BEGIN:VEVENT
UID:24ae6dc3-9bb0-4b4b-8fc6-4886abb664ca
DTSTAMP:20260423T201456Z
STATUS:CONFIRMED
DTSTART;TZID=GMT Standard Time:20190523T180000Z
DTEND;TZID=GMT Standard Time:20190523T220000Z
SUMMARY:THI Fourth Annual London Gala 2019
LOCATION:The Dorchester - Park Lane 53 - W1K 1QA  - Mayfair - United Kingdom
DESCRIPTION: 
BEGIN:VALARM
DESCRIPTION:THI Fourth Annual London Gala 2019
TRIGGER:-PT15M
ACTION:DISPLAY
END:VALARM
TRANSP:OPAQUE
END:VEVENT
END:VCALENDAR
