BEGIN:VCALENDAR
VERSION:2.0
PRODID:eventora.com
BEGIN:VEVENT
UID:da3ebeba-77c5-45e2-a108-7e02c1183939
DTSTAMP:20260423T155232Z
STATUS:CONFIRMED
DTSTART;TZID=GTB Standard Time:20180607T073000Z
DTEND;TZID=GTB Standard Time:20180607T113000Z
SUMMARY:Trading in US Waters: Priorities and Solutions
LOCATION:Metropolitan Expo Center -  Central Seminar Room - 190 19 Spata - An
DESCRIPTION: 
BEGIN:VALARM
DESCRIPTION:Trading in US Waters: Priorities and Solutions
TRIGGER:-PT15M
ACTION:DISPLAY
END:VALARM
TRANSP:OPAQUE
END:VEVENT
END:VCALENDAR
