BEGIN:VCALENDAR
VERSION:2.0
PRODID:eventora.com
BEGIN:VEVENT
UID:9997c0d9-a4cb-4bf3-bf0a-7dce347ccc7b
DTSTAMP:20260420T102540Z
STATUS:CONFIRMED
DTSTART;TZID=GTB Standard Time:20181008T060000Z
DTEND;TZID=GTB Standard Time:20181009T140000Z
SUMMARY:EVINTRA Buyer Registration
LOCATION:Online
DESCRIPTION: 
BEGIN:VALARM
DESCRIPTION:EVINTRA Buyer Registration
TRIGGER:-PT15M
ACTION:DISPLAY
END:VALARM
TRANSP:OPAQUE
END:VEVENT
END:VCALENDAR
