BEGIN:VCALENDAR
VERSION:2.0
PRODID:eventora.com
BEGIN:VEVENT
UID:7dc09173-2701-4406-ade8-0a48cc3af633
DTSTAMP:20260423T233626Z
STATUS:CONFIRMED
DTSTART;TZID=GTB Standard Time:20180307T153000Z
DTEND;TZID=GTB Standard Time:20180307T200000Z
SUMMARY:Two-stroke & Four-stroke Service Experience
LOCATION:MAN Diesel & Turbo Hellas Ltd - Akti Miaouli 89 - 185 38 Pireas - Pi
DESCRIPTION: 
BEGIN:VALARM
DESCRIPTION:Two-stroke & Four-stroke Service Experience
TRIGGER:-PT15M
ACTION:DISPLAY
END:VALARM
TRANSP:OPAQUE
END:VEVENT
END:VCALENDAR
