BEGIN:VCALENDAR
VERSION:2.0
PRODID:eventora.com
BEGIN:VEVENT
UID:8628af82-6266-481b-b0c7-9dfa721dec34
DTSTAMP:20260420T180745Z
STATUS:CONFIRMED
DTSTART;TZID=GTB Standard Time:20190119T090000Z
DTEND;TZID=GTB Standard Time:20190119T120000Z
SUMMARY:What is Play?
LOCATION:AEGEAN COLLEGE - Panepistimiou 17 - 105 64 Athina - Kentrikos Tomeas
DESCRIPTION: 
BEGIN:VALARM
DESCRIPTION:What is Play?
TRIGGER:-PT15M
ACTION:DISPLAY
END:VALARM
TRANSP:OPAQUE
END:VEVENT
END:VCALENDAR
