BEGIN:VCALENDAR
VERSION:2.0
PRODID:eventora.com
BEGIN:VEVENT
UID:2f5afff1-d89e-4753-bde0-e93920b5121e
DTSTAMP:20260420T063222Z
STATUS:CONFIRMED
DTSTART;TZID=GTB Standard Time:20210308T141000Z
DTEND;TZID=GTB Standard Time:20210308T163000Z
SUMMARY:Women in the era of the pandemic
LOCATION:
DESCRIPTION: 
BEGIN:VALARM
DESCRIPTION:Women in the era of the pandemic
TRIGGER:-PT15M
ACTION:DISPLAY
END:VALARM
TRANSP:OPAQUE
END:VEVENT
END:VCALENDAR
