BEGIN:VCALENDAR
VERSION:2.0
PRODID:eventora.com
BEGIN:VEVENT
UID:81f1a418-5a54-471f-a79d-aeb6dfabe45c
DTSTAMP:20260423T031757Z
STATUS:CONFIRMED
DTSTART;TZID=GTB Standard Time:20200723T080500Z
DTEND;TZID=GTB Standard Time:20211214T110500Z
SUMMARY:www.avg.com/retail
LOCATION: - USA - 10001 california - New York - United States
DESCRIPTION: 
BEGIN:VALARM
DESCRIPTION:www.avg.com/retail
TRIGGER:-PT15M
ACTION:DISPLAY
END:VALARM
TRANSP:OPAQUE
END:VEVENT
END:VCALENDAR
