BEGIN:VCALENDAR
VERSION:2.0
PRODID:eventora.com
BEGIN:VEVENT
UID:db0e31e6-5474-447e-98ec-956559f6b0b5
DTSTAMP:20260422T170039Z
STATUS:CONFIRMED
DTSTART;TZID=W. Europe Standard Time:20250719T150000Z
DTEND;TZID=W. Europe Standard Time:20250719T190000Z
SUMMARY:TEDxReggioCalabria 2025
LOCATION:Cineteatro Metropolitano - Via Nino Bixio 44 - 89127 Reggio Calabri
DESCRIPTION: 
BEGIN:VALARM
DESCRIPTION:TEDxReggioCalabria 2025
TRIGGER:-PT15M
ACTION:DISPLAY
END:VALARM
TRANSP:OPAQUE
END:VEVENT
END:VCALENDAR
